BEGIN:VCALENDAR
VERSION:2.0
PRODID:-//Tsunami Club Köln//DE
CALSCALE:GREGORIAN
METHOD:PUBLISH
BEGIN:VEVENT
UID:f5ae4d82-6733-474f-878e-798c4392294c
DTSTAMP:20260424T073319
DTSTART:20260612T200000
DTEND:20260612T230000
SUMMARY:Jakob Dobers
GEO:50.922657;6.959547
LOCATION:Tsunami Club, Im Ferkulum 9, 50678 Köln
END:VEVENT
END:VCALENDAR