BEGIN:VCALENDAR
VERSION:2.0
PRODID:-//Tsunami Club Köln//DE
CALSCALE:GREGORIAN
METHOD:PUBLISH
BEGIN:VEVENT
UID:20f31236-89ef-412d-b8dc-44cdef77725e
DTSTAMP:20260421T194011
DTSTART:20260519T200000
DTEND:20260519T230000
SUMMARY:BIRD’S VIEW
GEO:50.922657;6.959547
LOCATION:Tsunami Club, Im Ferkulum 9, 50678 Köln
END:VEVENT
END:VCALENDAR