BEGIN:VCALENDAR
VERSION:2.0
PRODID:-//Tsunami Club Köln//DE
CALSCALE:GREGORIAN
METHOD:PUBLISH
BEGIN:VEVENT
UID:93b2aa64-e94a-4652-b53f-98917aaacd2a
DTSTAMP:20260425T013842
DTSTART:20260520T200000
DTEND:20260520T230000
SUMMARY:3 STÜNDCHEN POP
GEO:50.922657;6.959547
LOCATION:Tsunami Club, Im Ferkulum 9, 50678 Köln
END:VEVENT
END:VCALENDAR