BEGIN:VCALENDAR
VERSION:2.0
PRODID:-//Tsunami Club Köln//DE
CALSCALE:GREGORIAN
METHOD:PUBLISH
BEGIN:VEVENT
UID:cd29dc2c-c617-40a6-ba10-2bb1dd66e3e6
DTSTAMP:20260421T153743
DTSTART:20260421T200000
DTEND:20260421T230000
SUMMARY:WELLBEHAVED // Aqualine
GEO:50.922657;6.959547
LOCATION:Tsunami Club, Im Ferkulum 9, 50678 Köln
END:VEVENT
END:VCALENDAR