BEGIN:VCALENDAR
VERSION:2.0
PRODID:-//Tsunami Club Köln//DE
CALSCALE:GREGORIAN
METHOD:PUBLISH
BEGIN:VEVENT
UID:54748321-2477-46de-bbe9-3cd8b86b3ccb
DTSTAMP:20260423T213623
DTSTART:20260425T220000
DTEND:20260426T040000
SUMMARY:LiViNG ON ViDEO
GEO:50.922657;6.959547
LOCATION:Tsunami Club, Im Ferkulum 9, 50678 Köln
END:VEVENT
END:VCALENDAR