BEGIN:VCALENDAR
VERSION:2.0
PRODID:-//Tsunami Club Köln//DE
CALSCALE:GREGORIAN
METHOD:PUBLISH
BEGIN:VEVENT
UID:6884112a-4752-4cdd-a450-e8c5c93d1f45
DTSTAMP:20260426T030527
DTSTART:20260522T190000
DTEND:20260523T050000
SUMMARY:Tsunami Drift Vol. 1
GEO:50.922657;6.959547
LOCATION:Tsunami Club, Im Ferkulum 9, 50678 Köln
END:VEVENT
END:VCALENDAR