BEGIN:VCALENDAR
VERSION:2.0
PRODID:-//Tsunami Club Köln//DE
CALSCALE:GREGORIAN
METHOD:PUBLISH
BEGIN:VEVENT
UID:fef5a3fc-ddf4-4930-a39f-07d4d5ed3a55
DTSTAMP:20260426T061354
DTSTART:20260515T220000
DTEND:20260516T050000
SUMMARY:SUNGLASSES AT NIGHT
GEO:50.922657;6.959547
LOCATION:Tsunami Club, Im Ferkulum 9, 50678 Köln
END:VEVENT
END:VCALENDAR